BEGIN:VCALENDAR
VERSION:2.0
PRODID:-//Micha Krämer - ECPv6.15.20//NONSGML v1.0//EN
CALSCALE:GREGORIAN
METHOD:PUBLISH
X-WR-CALNAME:Micha Krämer
X-ORIGINAL-URL:https://micha-kraemer.de
X-WR-CALDESC:Veranstaltungen für Micha Krämer
REFRESH-INTERVAL;VALUE=DURATION:PT1H
X-Robots-Tag:noindex
X-PUBLISHED-TTL:PT1H
BEGIN:VTIMEZONE
TZID:Europe/Berlin
BEGIN:DAYLIGHT
TZOFFSETFROM:+0100
TZOFFSETTO:+0200
TZNAME:CEST
DTSTART:20250330T010000
END:DAYLIGHT
BEGIN:STANDARD
TZOFFSETFROM:+0200
TZOFFSETTO:+0100
TZNAME:CET
DTSTART:20251026T010000
END:STANDARD
BEGIN:DAYLIGHT
TZOFFSETFROM:+0100
TZOFFSETTO:+0200
TZNAME:CEST
DTSTART:20260329T010000
END:DAYLIGHT
BEGIN:STANDARD
TZOFFSETFROM:+0200
TZOFFSETTO:+0100
TZNAME:CET
DTSTART:20261025T010000
END:STANDARD
BEGIN:DAYLIGHT
TZOFFSETFROM:+0100
TZOFFSETTO:+0200
TZNAME:CEST
DTSTART:20270328T010000
END:DAYLIGHT
BEGIN:STANDARD
TZOFFSETFROM:+0200
TZOFFSETTO:+0100
TZNAME:CET
DTSTART:20271031T010000
END:STANDARD
END:VTIMEZONE
BEGIN:VEVENT
DTSTART;TZID=Europe/Berlin:20260307T193000
DTEND;TZID=Europe/Berlin:20260307T210000
DTSTAMP:20260421T154634
CREATED:20260103T204547Z
LAST-MODIFIED:20260103T204547Z
UID:627-1772911800-1772917200@micha-kraemer.de
SUMMARY:Lesung in Selters im Westerwald
DESCRIPTION:Micha  musiziert und ließt aus „Im Schatten der Camorra“  in Selters im Westerwald. \nOrt: Rheinstraße 22 (Studio im 2. Obergeschoss) 56242 Selters \nBeginn 19:30Uhr / Einlass ab 19 Uhr \nFreier Eintritt ( Um eine kleine Spende wird gebeten) \nVeranstalter: Stadt Selters – Forum Kultur
URL:https://micha-kraemer.de/event/lesung-in-selters-im-westerwald/
END:VEVENT
BEGIN:VEVENT
DTSTART;TZID=Europe/Berlin:20260315T160000
DTEND;TZID=Europe/Berlin:20260315T200000
DTSTAMP:20260421T154634
CREATED:20260215T123937Z
LAST-MODIFIED:20260215T124209Z
UID:817-1773590400-1773604800@micha-kraemer.de
SUMMARY:Konzert mit Micha Krämer\, Lorena Schmidt und den Gebrüder Poweronoff in Hennigs Oldigarage / Alsdorf a.d. Sieg
DESCRIPTION:Nach dem ausverkauften Konzert am 25.10. im letzten Jahr spielen Micha\, Lorena und die Gebrüder erneut in Hennings Oldigarage. \nKarten gibt es im Beerdigungsinstitut Himmrich oder in meinem Onlineshop. Achtung: Die Karten sind auf 100 Stück begrenzt. \nNur Vorverkauf! Keine Abendkasse! \nBeginn: 16 Uhr zu Kaffee und Kuchen. \nEinlass: 15 Uhr
URL:https://micha-kraemer.de/event/konzert-mit-micha-kraemer-lorena-schmidt-und-den-gebrueder-poweronoff-in-hennigs-oldigarage-alsdorf-a-d-sieg/
LOCATION:Beerdigungsinstitut Himmrich\, Industriestraße 9\, Alsdorf\, 57518
END:VEVENT
BEGIN:VEVENT
DTSTART;VALUE=DATE:20260325
DTEND;VALUE=DATE:20260326
DTSTAMP:20260421T154634
CREATED:20260103T204734Z
LAST-MODIFIED:20260103T204734Z
UID:631-1774396800-1774483199@micha-kraemer.de
SUMMARY:musikalische Lesung im Zirkuszelt in Alsdorf/Sieg
DESCRIPTION:Nähere Infos folgen noch!!!
URL:https://micha-kraemer.de/event/musikalische-lesung-im-zirkuszelt-in-alsdorf-sieg/
END:VEVENT
END:VCALENDAR