BEGIN:VCALENDAR
VERSION:2.0
PRODID:-//Micha Krämer - ECPv6.15.20//NONSGML v1.0//EN
CALSCALE:GREGORIAN
METHOD:PUBLISH
X-ORIGINAL-URL:https://micha-kraemer.de
X-WR-CALDESC:Veranstaltungen für Micha Krämer
REFRESH-INTERVAL;VALUE=DURATION:PT1H
X-Robots-Tag:noindex
X-PUBLISHED-TTL:PT1H
BEGIN:VTIMEZONE
TZID:Europe/Berlin
BEGIN:DAYLIGHT
TZOFFSETFROM:+0100
TZOFFSETTO:+0200
TZNAME:CEST
DTSTART:20250330T010000
END:DAYLIGHT
BEGIN:STANDARD
TZOFFSETFROM:+0200
TZOFFSETTO:+0100
TZNAME:CET
DTSTART:20251026T010000
END:STANDARD
BEGIN:DAYLIGHT
TZOFFSETFROM:+0100
TZOFFSETTO:+0200
TZNAME:CEST
DTSTART:20260329T010000
END:DAYLIGHT
BEGIN:STANDARD
TZOFFSETFROM:+0200
TZOFFSETTO:+0100
TZNAME:CET
DTSTART:20261025T010000
END:STANDARD
BEGIN:DAYLIGHT
TZOFFSETFROM:+0100
TZOFFSETTO:+0200
TZNAME:CEST
DTSTART:20270328T010000
END:DAYLIGHT
BEGIN:STANDARD
TZOFFSETFROM:+0200
TZOFFSETTO:+0100
TZNAME:CET
DTSTART:20271031T010000
END:STANDARD
END:VTIMEZONE
BEGIN:VEVENT
DTSTART;TZID=Europe/Berlin:20260407T200000
DTEND;TZID=Europe/Berlin:20260407T230000
DTSTAMP:20260421T155303
CREATED:20260215T124738Z
LAST-MODIFIED:20260215T130226Z
UID:825-1775592000-1775602800@micha-kraemer.de
SUMMARY:Micha liest und musiziert auf Langeoog
DESCRIPTION:Musikalische Lesung mit Micha KrämerMicha Krämer liest aus dem aktuellen Ostfriesland-Krimi „Mordsbrise“ und begleitet die Veranstaltung mit Gitarre und Gesang\nTermin: 07.04.2026 um 20 Uhr\nOrt: Haus der Insel\, Kurstraße 1\, 26465 Langeoog \n \nEs ist ein Junggesellenabschied der anderen Art: Fünf Mann stechen in See\, doch nur vier kehren zurück. Was ist in der Nacht an Bord der Hoppetosse III geschehen?\nVon Bräutigam Bjarne Hensen fehlt am nächsten Morgen jede Spur. Seine Verlobte wartet vor dem Seemannshus Langeoog vergebens auf ihn.\nKeiner der Freunde kann sich nach der berauschten Feier an die Ereignisse der letzten Nacht erinnern.\nDie Inselpolizisten Lotta Dönges und Onno Feddersen glauben keineswegs an einen Unfall.
URL:https://micha-kraemer.de/event/micha-liest-und-musiziert-auf-langeoog/
LOCATION:Haus der Insel\, Kurstraße 1\, Langeoog\, 26465
END:VEVENT
END:VCALENDAR